BEGIN:VCALENDAR
PRODID:http://wibix.de/infusions/pro_download_panel/download.php?did=27
VERSION:2.0
METHOD:PUBLISH
BEGIN:VEVENT
DTSTART:20200405T220000Z
UID:205@http://www.falken-bickenbach.de/
DTSTAMP:20191230T155834Z
DESCRIPTION:Osterferienspiele 2020
SUMMARY:Osterferienspiele 2020
LOCATION:Karl Wolf Heim
CLASS:PUBLIC
RRULE:FREQ=DAILY;INTERVAL=1;UNTIL=20200408T220000Z
END:VEVENT
END:VCALENDAR
