BEGIN:VCALENDAR
PRODID:http://wibix.de/infusions/pro_download_panel/download.php?did=27
VERSION:2.0
METHOD:PUBLISH
BEGIN:VEVENT
DTSTART:20191201T100000Z
DTEND:20191201T180000Z
UID:200@http://www.falken-bickenbach.de/
DTSTAMP:20190129T201221Z
DESCRIPTION:Weihnachtsmarkt Bickenbach
SUMMARY:Weihnachtsmarkt Bickenbach
LOCATION:Feuerwehr / Altes Rathaus
CLASS:PUBLIC
END:VEVENT
END:VCALENDAR
