BEGIN:VCALENDAR
PRODID:http://wibix.de/infusions/pro_download_panel/download.php?did=27
VERSION:2.0
METHOD:PUBLISH
BEGIN:VEVENT
DTSTART:20190614T130000Z
DTEND:20190614T150000Z
UID:197@http://www.falken-bickenbach.de/
DTSTAMP:20190129T200532Z
DESCRIPTION:Falkenkaffee
SUMMARY:Falkenkaffee
LOCATION:Karl Wolf Heim
CLASS:PUBLIC
END:VEVENT
END:VCALENDAR
