BEGIN:VCALENDAR
PRODID:http://wibix.de/infusions/pro_download_panel/download.php?did=27
VERSION:2.0
METHOD:PUBLISH
BEGIN:VEVENT
DTSTART:20191006T123000Z
DTEND:20191006T153000Z
UID:195@http://www.falken-bickenbach.de/
DTSTAMP:20190129T195911Z
DESCRIPTION:Kerwekaffee
SUMMARY:Kerwekaffee
LOCATION:Karl Wolf Heim
CLASS:PUBLIC
END:VEVENT
END:VCALENDAR
