BEGIN:VCALENDAR
PRODID:http://wibix.de/infusions/pro_download_panel/download.php?did=27
VERSION:2.0
METHOD:PUBLISH
BEGIN:VEVENT
DTSTART:20190420T123000Z
DTEND:20190420T153000Z
UID:193@http://www.falken-bickenbach.de/
DTSTAMP:20190129T195519Z
DESCRIPTION:Osterkaffee
SUMMARY:Osterkaffee
LOCATION:Karl Wolf Heim
CLASS:PUBLIC
END:VEVENT
END:VCALENDAR
