BEGIN:VCALENDAR
PRODID:http://wibix.de/infusions/pro_download_panel/download.php?did=27
VERSION:2.0
METHOD:PUBLISH
BEGIN:VEVENT
DTSTART:20190929T220000Z
UID:192@http://www.falken-bickenbach.de/
DTSTAMP:20190129T195415Z
DESCRIPTION:Herbstferienspiele
SUMMARY:Herbstferienspiele
LOCATION:Karl Wolf Heim
CLASS:PUBLIC
RRULE:FREQ=DAILY;INTERVAL=1;UNTIL=20191003T220000Z
END:VEVENT
END:VCALENDAR
