BEGIN:VCALENDAR
PRODID:http://wibix.de/infusions/pro_download_panel/download.php?did=27
VERSION:2.0
METHOD:PUBLISH
BEGIN:VEVENT
DTSTART:20190714T220000Z
UID:191@http://www.falken-bickenbach.de/
DTSTAMP:20190129T195315Z
DESCRIPTION:Sommerferienspiele
SUMMARY:Sommerferienspiele
LOCATION:Karl Wolf Heim
CLASS:PUBLIC
RRULE:FREQ=DAILY;INTERVAL=1;UNTIL=20190718T220000Z
END:VEVENT
END:VCALENDAR
