BEGIN:VCALENDAR
PRODID:http://wibix.de/infusions/pro_download_panel/download.php?did=27
VERSION:2.0
METHOD:PUBLISH
BEGIN:VEVENT
DTSTART:20181109T140000Z
DTEND:20181109T160000Z
UID:185@http://www.falken-bickenbach.de/
DTSTAMP:20181017T185923Z
DESCRIPTION:Falkenkaffee
SUMMARY:Falkenkaffee
LOCATION:Karl Wolf Heim
CLASS:PUBLIC
END:VEVENT
END:VCALENDAR
