BEGIN:VCALENDAR
PRODID:http://wibix.de/infusions/pro_download_panel/download.php?did=27
VERSION:2.0
METHOD:PUBLISH
BEGIN:VEVENT
DTSTART:20181007T130000Z
DTEND:20181007T150000Z
UID:183@http://www.falken-bickenbach.de/
DTSTAMP:20180607T050237Z
DESCRIPTION:Kerwe Kaffee
SUMMARY:Kerwe Kaffee
LOCATION:Karl Wolf Heim
CLASS:PUBLIC
END:VEVENT
END:VCALENDAR
