BEGIN:VCALENDAR
PRODID:http://wibix.de/infusions/pro_download_panel/download.php?did=27
VERSION:2.0
METHOD:PUBLISH
BEGIN:VEVENT
DTSTART:20181019T173000Z
DTEND:20181019T210000Z
UID:180@http://www.falken-bickenbach.de/
DTSTAMP:20180504T192613Z
DESCRIPTION:Jubiläumsfeier &amp; Ehrungen
SUMMARY:Jubiläumsfeier &amp; Ehrungen
LOCATION:Bürgersaal Rathaus
CLASS:PUBLIC
END:VEVENT
END:VCALENDAR
