BEGIN:VCALENDAR
PRODID:http://wibix.de/infusions/pro_download_panel/download.php?did=27
VERSION:2.0
METHOD:PUBLISH
BEGIN:VEVENT
DTSTART:20180331T130000Z
DTEND:20180331T150000Z
UID:177@http://www.falken-bickenbach.de/
DTSTAMP:20180212T203503Z
DESCRIPTION:Oster-Kaffee
SUMMARY:Oster-Kaffee
LOCATION:Karl Wolf Heim
CLASS:PUBLIC
END:VEVENT
END:VCALENDAR
