BEGIN:VCALENDAR
PRODID:http://wibix.de/infusions/pro_download_panel/download.php?did=27
VERSION:2.0
METHOD:PUBLISH
BEGIN:VEVENT
DTSTART:20180309T140000Z
DTEND:20180309T160000Z
UID:176@http://www.falken-bickenbach.de/
DTSTAMP:20180212T203328Z
DESCRIPTION:Falken-Kaffee
SUMMARY:Falken-Kaffee
LOCATION:Karl Wolf Heim
CLASS:PUBLIC
END:VEVENT
END:VCALENDAR
