BEGIN:VCALENDAR
PRODID:http://wibix.de/infusions/pro_download_panel/download.php?did=27
VERSION:2.0
METHOD:PUBLISH
BEGIN:VEVENT
DTSTART:20180311T110000Z
UID:175@http://www.falken-bickenbach.de/
DTSTAMP:20171206T230128Z
DESCRIPTION:Reibekuchenfest
SUMMARY:Reibekuchenfest
LOCATION:Karl Wolf Heim
CLASS:PUBLIC
END:VEVENT
END:VCALENDAR
