BEGIN:VCALENDAR
PRODID:http://wibix.de/infusions/pro_download_panel/download.php?did=27
VERSION:2.0
METHOD:PUBLISH
BEGIN:VEVENT
DTSTART:20171203T090000Z
DTEND:20171203T190000Z
UID:169@http://www.falken-bickenbach.de/
DTSTAMP:20171113T202452Z
DESCRIPTION:Weihnachtsmarkt Bickenbach
SUMMARY:Weihnachtsmarkt Bickenbach
LOCATION:Altes Rathaus Bickenbach
CLASS:PUBLIC
END:VEVENT
END:VCALENDAR
