BEGIN:VCALENDAR
PRODID:http://wibix.de/infusions/pro_download_panel/download.php?did=27
VERSION:2.0
METHOD:PUBLISH
BEGIN:VEVENT
DTSTART:20170908T130000Z
DTEND:20170908T150000Z
UID:152@http://www.falken-bickenbach.de/
DTSTAMP:20161002T125102Z
DESCRIPTION:Falken-Kaffee
SUMMARY:Falken-Kaffee
LOCATION:Karl Wolf Heim
CLASS:PUBLIC
END:VEVENT
END:VCALENDAR
