BEGIN:VCALENDAR
PRODID:http://wibix.de/infusions/pro_download_panel/download.php?did=27
VERSION:2.0
METHOD:PUBLISH
BEGIN:VEVENT
DTSTART:20171008T220000Z
UID:146@http://www.falken-bickenbach.de/
DTSTAMP:20161002T124553Z
DESCRIPTION:Herbstferienspiele
SUMMARY:Herbstferienspiele
LOCATION:Karl Wolf Heim
CLASS:PUBLIC
RRULE:FREQ=DAILY;INTERVAL=1;UNTIL=20171012T220000Z
END:VEVENT
END:VCALENDAR
