BEGIN:VCALENDAR
PRODID:http://wibix.de/infusions/pro_download_panel/download.php?did=27
VERSION:2.0
METHOD:PUBLISH
BEGIN:VEVENT
DTSTART:20171008T123000Z
DTEND:20171008T150000Z
UID:145@http://www.falken-bickenbach.de/
DTSTAMP:20161002T124416Z
DESCRIPTION:Kerwe-Kaffee
SUMMARY:Kerwe-Kaffee
LOCATION:Karl Wolf Heim
CLASS:PUBLIC
END:VEVENT
END:VCALENDAR
