BEGIN:VCALENDAR
PRODID:http://wibix.de/infusions/pro_download_panel/download.php?did=27
VERSION:2.0
METHOD:PUBLISH
BEGIN:VEVENT
DTSTART:20170902T120000Z
DTEND:20170902T160000Z
UID:144@http://www.falken-bickenbach.de/
DTSTAMP:20161002T124230Z
DESCRIPTION:Spielfest (Alternativtermin zum 26.08.2017)
SUMMARY:Spielfest
LOCATION:Falkengelände
CLASS:PUBLIC
END:VEVENT
END:VCALENDAR
